BEGIN:VCALENDAR
VERSION:2.0
PRODID:-//Kickers - ECPv6.10.3//NONSGML v1.0//EN
CALSCALE:GREGORIAN
METHOD:PUBLISH
X-WR-CALNAME:Kickers
X-ORIGINAL-URL:https://kickerssportsbar.ae
X-WR-CALDESC:Events for Kickers
REFRESH-INTERVAL;VALUE=DURATION:PT1H
X-Robots-Tag:noindex
X-PUBLISHED-TTL:PT1H
BEGIN:VTIMEZONE
TZID:UTC
BEGIN:STANDARD
TZOFFSETFROM:+0000
TZOFFSETTO:+0000
TZNAME:UTC
DTSTART:20250101T000000
END:STANDARD
END:VTIMEZONE
BEGIN:VEVENT
DTSTART;TZID=UTC:20250323T233000
DTEND;TZID=UTC:20250324T020000
DTSTAMP:20260421T123900
CREATED:20250220T103637Z
LAST-MODIFIED:20250317T132824Z
UID:1269-1742772600-1742781600@kickerssportsbar.ae
SUMMARY:Germany vs Italy - UEFA Nations League
DESCRIPTION:
URL:https://kickerssportsbar.ae/event/germany-vs-italy-uefa-nations-league/
CATEGORIES:Footbal,Live Stream Highlight,Live Streams,Sports
ATTACH;FMTTYPE=image/jpeg:https://kickerssportsbar.ae/wp-content/uploads/2025/02/Untitled-design-10.jpg
END:VEVENT
BEGIN:VEVENT
DTSTART;TZID=UTC:20250323T233000
DTEND;TZID=UTC:20250324T020000
DTSTAMP:20260421T123900
CREATED:20250220T103712Z
LAST-MODIFIED:20250317T132645Z
UID:1270-1742772600-1742781600@kickerssportsbar.ae
SUMMARY:Portugal vs Denmark - UEFA Nations League
DESCRIPTION:
URL:https://kickerssportsbar.ae/event/portugal-vs-denmark-uefa-nations-league/
CATEGORIES:Footbal,Live Stream Highlight,Live Streams,Sports
ATTACH;FMTTYPE=image/jpeg:https://kickerssportsbar.ae/wp-content/uploads/2025/02/Untitled-design-10.jpg
END:VEVENT
BEGIN:VEVENT
DTSTART;TZID=UTC:20250323T233000
DTEND;TZID=UTC:20250324T020000
DTSTAMP:20260421T123900
CREATED:20250220T103751Z
LAST-MODIFIED:20250317T132536Z
UID:1271-1742772600-1742781600@kickerssportsbar.ae
SUMMARY:France vs Croatia - UEFA Nations League
DESCRIPTION:
URL:https://kickerssportsbar.ae/event/france-vs-croatia-uefa-nations-league/
CATEGORIES:Footbal,Live Stream Highlight,Live Streams,Sports
ATTACH;FMTTYPE=image/jpeg:https://kickerssportsbar.ae/wp-content/uploads/2025/02/Untitled-design-10.jpg
END:VEVENT
BEGIN:VEVENT
DTSTART;TZID=UTC:20250323T233000
DTEND;TZID=UTC:20250324T020000
DTSTAMP:20260421T123900
CREATED:20250220T103830Z
LAST-MODIFIED:20250317T132354Z
UID:1272-1742772600-1742781600@kickerssportsbar.ae
SUMMARY:Spain vs Netherlands - UEFA Nations League
DESCRIPTION:
URL:https://kickerssportsbar.ae/event/spain-vs-netherlands-uefa-nations-league/
CATEGORIES:Footbal,Live Stream Highlight,Live Streams,Sports
ATTACH;FMTTYPE=image/jpeg:https://kickerssportsbar.ae/wp-content/uploads/2025/02/Untitled-design-10.jpg
END:VEVENT
END:VCALENDAR