BEGIN:VCALENDAR
VERSION:2.0
PRODID:-//Kickers - ECPv6.10.3//NONSGML v1.0//EN
CALSCALE:GREGORIAN
METHOD:PUBLISH
X-ORIGINAL-URL:https://kickerssportsbar.ae
X-WR-CALDESC:Events for Kickers
REFRESH-INTERVAL;VALUE=DURATION:PT1H
X-Robots-Tag:noindex
X-PUBLISHED-TTL:PT1H
BEGIN:VTIMEZONE
TZID:UTC
BEGIN:STANDARD
TZOFFSETFROM:+0000
TZOFFSETTO:+0000
TZNAME:UTC
DTSTART:20250101T000000
END:STANDARD
END:VTIMEZONE
BEGIN:VEVENT
DTSTART;TZID=UTC:20250320T233000
DTEND;TZID=UTC:20250321T020000
DTSTAMP:20260421T123318
CREATED:20250220T103855Z
LAST-MODIFIED:20250317T132213Z
UID:1273-1742513400-1742522400@kickerssportsbar.ae
SUMMARY:Italy Vs Germany - UEFA Nations League
DESCRIPTION:
URL:https://kickerssportsbar.ae/event/italy-vs-germany-uefa-nations-league/
CATEGORIES:Footbal,Live Stream Highlight,Live Streams,Sports
ATTACH;FMTTYPE=image/jpeg:https://kickerssportsbar.ae/wp-content/uploads/2025/02/Untitled-design-10.jpg
END:VEVENT
BEGIN:VEVENT
DTSTART;TZID=UTC:20250320T233000
DTEND;TZID=UTC:20250321T020000
DTSTAMP:20260421T123318
CREATED:20250314T141427Z
LAST-MODIFIED:20250317T132032Z
UID:1337-1742513400-1742522400@kickerssportsbar.ae
SUMMARY:Denmark vs Portugal - UEFA Nations League
DESCRIPTION:
URL:https://kickerssportsbar.ae/event/denmark-vs-portugal-uefa-nations-league/
CATEGORIES:Footbal,Live Stream Highlight,Live Streams,Sports
END:VEVENT
BEGIN:VEVENT
DTSTART;TZID=UTC:20250320T233000
DTEND;TZID=UTC:20250321T020000
DTSTAMP:20260421T123318
CREATED:20250317T131706Z
LAST-MODIFIED:20250317T131904Z
UID:1340-1742513400-1742522400@kickerssportsbar.ae
SUMMARY:Netherlands vs Spain - UEFA Nations League
DESCRIPTION:
URL:https://kickerssportsbar.ae/event/netherlands-vs-spain-uefa-nations-league/
CATEGORIES:Footbal,Live Stream Highlight,Live Streams,Sports
END:VEVENT
BEGIN:VEVENT
DTSTART;TZID=UTC:20250320T233000
DTEND;TZID=UTC:20250321T020000
DTSTAMP:20260421T123318
CREATED:20250317T131827Z
LAST-MODIFIED:20250317T131849Z
UID:1342-1742513400-1742522400@kickerssportsbar.ae
SUMMARY:Croatia vs France - UEFA Nations League
DESCRIPTION:
URL:https://kickerssportsbar.ae/event/croatia-vs-france-uefa-nations-league/
CATEGORIES:Footbal,Live Stream Highlight,Live Streams,Sports
END:VEVENT
END:VCALENDAR